BEGIN:VCALENDAR
VERSION:2.0
PRODID:-//Korenite - ECPv6.5.1.4//NONSGML v1.0//EN
CALSCALE:GREGORIAN
METHOD:PUBLISH
X-WR-CALNAME:Korenite
X-ORIGINAL-URL:https://korenite.com
X-WR-CALDESC:Events for Korenite
REFRESH-INTERVAL;VALUE=DURATION:PT1H
X-Robots-Tag:noindex
X-PUBLISHED-TTL:PT1H
BEGIN:VTIMEZONE
TZID:Europe/Helsinki
BEGIN:DAYLIGHT
TZOFFSETFROM:+0200
TZOFFSETTO:+0300
TZNAME:EEST
DTSTART:20250330T010000
END:DAYLIGHT
BEGIN:STANDARD
TZOFFSETFROM:+0300
TZOFFSETTO:+0200
TZNAME:EET
DTSTART:20251026T010000
END:STANDARD
END:VTIMEZONE
BEGIN:VEVENT
DTSTART;TZID=Europe/Helsinki:20250824T100000
DTEND;TZID=Europe/Helsinki:20250825T170000
DTSTAMP:20260421T154328
CREATED:20230129T095413Z
LAST-MODIFIED:20250806T134246Z
UID:20316-1756029600-1756141200@korenite.com
SUMMARY:Основен курс по пранично лечение
DESCRIPTION:Помагайте на другите и себе си от прости до средно тежки физически заболявания. Разберете основните понятия\, принципи и техники\, които стоят зад Pranic Healing © – усъвършенствана форма на енергийно лечение\, която включва използването на жизнената сила или прана за пренастройване\, балансиране и хармонизиране на човешката енергийна система\, за подобряване на здравето на тялото. \n\n\n\nСлед курса ще можете да:\n\n\n\n\nПознаване на енергийната анатомия\, чакрите и техните физически функции\n\n\n\nДа усещате засегнатите чакри и части от аурата чрез сканиране\, което е проста и мощна техника за усещане на аурата\n\n\n\nДа помагате на себе си и другите с протоколи стъпка по стъпка\n\n\n\nИзвършвайте сеанси от разстояние в случаите\, когато пациентът не е физически достъпен\n\n\n\nПоддържане на добро здраве с помощта на цялостни техники\n\n\n\nПрилагайте енергийна хигиена\, като прекъсвате енергийната връзка между вас и пациента след всеки сеанс\, за да избегнете ненужни замърсявания\n\n\n\nПодобряване на широк спектър от физически заболявания\, включително главоболие\, сърдечни заболявания\, стомашно-чревни разстройства и болки\n\n\n\nИзвършвайте Медитация на сърца близнаци за мир и просветление
URL:https://korenite.com/event/%d0%ba%d1%83%d1%80%d1%81-%d0%b0%d0%b2%d0%b3%d1%83%d1%81%d1%82/
LOCATION:Пловдив\, ул. „Райко Даскалов“ 53\, Пловдив\, 4000\, Bulgaria
ATTACH;FMTTYPE=image/png:https://korenite.com/wp-content/uploads/2023/01/main-copia.png
END:VEVENT
END:VCALENDAR